Workbook

Sheet SABS Input
A1: Instructions:
A2: Below are statements which describe certain attitudes and behaviours. Rate each statement in column B 1–7 (1=Strongly Disagree … 7=Strongly Agree) in column B Please answer according to what you actually do and think rather than what you think you ought to do think.). The sheet auto-applies reverse scoring where required and computes adjusted scores in column F and averages for all SABS and each dimension in the 'Scores' tab.
A3: Item # | B3: Statement | C3: Response (1–7) | D3: Dimension | E3: Reverse score? | F3: Adjusted Value
A4: 1 | B4: I think about my life as an ongoing project to become a better person. | D4: Ethical Development | E4: No | F4: =C4 -> 0
A5: 2 | B5: The universe is benevolent in its overall plan. | D5: Stoic Worldview | E5: No | F5: =C5 -> 0
A6: 3 | B6: I regularly spend time reflecting on what is most important to enable me to live a good and happy life. | D6: Stoic Mindfulness | E6: No | F6: =C6 -> 0
A7: 4 | B7: I do the right thing even when I feel afraid. | D7: Virtue | E7: No | F7: =C7 -> 0
A8: 5 | B8: It is my duty to help others. | D8: Benevolence & Compassion | E8: No | F8: =C8 -> 0
A9: 6 | B9: I usually do the right thing. | D9: Virtue | E9: No | F9: =C9 -> 0
A10: 7 | B10: I do not act on urges when it would be unwise to act on them | D10: Virtue | E10: No | F10: =C10 -> 0
A11: 8 | B11: I am committed to helping humanity in general. | D11: Benevolence & Compassion | E11: No | F11: =C11 -> 0
A12: 9 | B12: I treat everyone fairly. | D12: Virtue | E12: No | F12: =C12 -> 0
A13: 10 | B13: I take active steps to reduce the suffering of others. | D13: Benevolence & Compassion | E13: No | F13: =C13 -> 0
A14: 11 | B14: It is possible to lead a happy life even after the death of someone we love. | D14: Beliefs about Happiness | E14: No | F14: =C14 -> 0
A15: 12 | B15: The universe embodies wisdom. | D15: Stoic Worldview | E15: No | F15: =C15 -> 0
... A21: 18 | B21: I pay attention to my judgements about good or bad things or people as I am making them. | D21: Stoic Mindfulness | E21: No | F21: =C21 -> 0
A22: 19 | B22: I need to be well thought of by others in order to be happy. | D22: Beliefs about Happiness | E22: Yes | F22: =8-C22 -> 8
A23: 20 | B23: It is good to think about life as an ongoing journey towards becoming a better person. | D23: Ethical Development | E23: No | F23: =C23 -> 0
A24: 21 | B24: I am committed to helping my friends. | D24: Benevolence & Compassion | E24: No | F24: =C24 -> 0
A25: 22 | B25: I pay attention to my thoughts about what I intend to do before I act on them. | D25: Stoic Mindfulness | E25: No | F25: =C25 -> 0
A26: 23 | B26: I want to become a better person ethically. | D26: Ethical Development | E26: No | F26: =C26 -> 0
A27: 24 | B27: When a negative thought enters my mind, I remind myself that it is just an interpretation of the situation. | D27: Stoic Mindfulness | E27: No | F27: =C27 -> 0
A28: 25 | B28: I view other people as fellow-members of the brother/sisterhood of humankind. | D28: Benevolence & Compassion | E28: No | F28: =C28 -> 0
A29: 26 | B29: If things don’t go well for me, I can’t lead a good life. | D29: Beliefs about Happiness | E29: Yes | F29: =8-C29 -> 8
A30: 27 | B30: I need to be in good health in order to be happy. | D30: Beliefs about Happiness | E30: Yes | F30: =8-C30 -> 8
A31: 28 | B31: Every day I spend some time thinking about how I can best face challenges in the day ahead. | D31: Stoic Mindfulness | E31: No | F31: =C31 -> 0
A32: 29 | B32: Our voluntary actions are among the only things truly under our control in life. | D32: Beliefs About Control | E32: No | F32: =C32 -> 0
A33: 30 | B33: As long as you have the right attitude, you can lead a good life even in the most difficult circumstances. | D33: Beliefs about Happiness | E33: No | F33: =C33 -> 0
A34: 31 | B34: I care about the suffering of others | D34: Benevolence & Compassion | E34: No | F34: =C34 -> 0
A35: 32 | B35: I often do what I feel like doing rather than doing what I believe to be the right thing. | D35: Virtue | E35: Yes | F35: =8-C35 -> 8
A36: 33 | B36: Our judgements are amongst the only things truly under our control in life. | D36: Beliefs About Control | E36: No | F36: =C36 -> 0
A37: 34 | B37: I see my happiness as fully compatible with caring for other people. | D37: Benevolence & Compassion | E37: No | F37: =C37 -> 0
A38: 35 | B38: The best idea is to give up trying to control people and instead focus on our own actions and our judgments and character. | D38: Beliefs About Control | E38: No | F38: =C38 -> 0
A39: 36 | B39: There is no overall plan to the universe. | D39: Stoic Worldview | E39: Yes | F39: =8-C39 -> 8
A40: 37 | B40: I think about what the ideal wise and good person would do when faced with misfortunes in life. | D40: Stoic Mindfulness | E40: No | F40: =C40 -> 0
A41: 38 | B41: If things don’t go well for my family, I can’t lead a good life. | D41: Beliefs about Happiness | E41: Yes | F41: =8-C41 -> 8
A42: 39 | B42: I am committed to helping in my local community. | D42: Benevolence & Compassion | E42: No | F42: =C42 -> 0
A43: 40 | B43: It is possible to lead a happy life even when we have lost success or wealth. | D43: Beliefs about Happiness | E43: No | F43: =C43 -> 0
A45: Please see the Scores tab for average scores for each of the 7 SABS dimensions and for all SABS items
A46: Reverse-scored items:
...

Sheet Scores
A1: Scale / Dimension | B1: Items | C1: Average Score
A2: SABS Total (average across 40 items) | B2: 1–40 | C2: =IF(COUNTA('SABS Input'!F4:F43)=0,"",AVERAGE('SABS Input'!F4:F43)) -> 1.2
A3: Beliefs about Happiness | B3: 11, 14, 19, 26, 27, 30, 38, 40 | C3: =IF(COUNTA('SABS Input'!F14,'SABS Input'!F17,'SABS Input'!F22,'SABS Input'!F29,'SABS Input'!F30,'SABS Input'!F33,'SABS Input'!F41,'SABS Input'!F43)=0,"",AVERAGE('SABS Input'!F14,'SABS Input'!F17,'SABS Input'!F22,'SABS Input'!F29,'SABS Input'!F30,'SABS Input'!F33,'SABS Input'!F41,'SABS Input'!F43)) -> 4
A4: Stoic Mindfulness | B4: 3, 13, 18, 22, 24, 28, 37 | C4: =IF(COUNTA('SABS Input'!F6,'SABS Input'!F16,'SABS Input'!F21,'SABS Input'!F25,'SABS Input'!F27,'SABS Input'!F31,'SABS Input'!F40)=0,"",AVERAGE('SABS Input'!F6,'SABS Input'!F16,'SABS Input'!F21,'SABS Input'!F25,'SABS Input'!F27,'SABS Input'!F31,'SABS Input'!F40)) -> 0
A5: Virtue | B5: 4, 6, 7, 9, 15, 32 | C5: =IF(COUNTA('SABS Input'!F7,'SABS Input'!F9,'SABS Input'!F10,'SABS Input'!F12,'SABS Input'!F18,'SABS Input'!F35)=0,"",AVERAGE('SABS Input'!F7,'SABS Input'!F9,'SABS Input'!F10,'SABS Input'!F12,'SABS Input'!F18,'SABS Input'!F35)) -> 1.3333333
A6: Benevolence & Compassion | B6: 5, 8, 10, 21, 25, 31, 34, 39 | C6: =IF(COUNTA('SABS Input'!F8,'SABS Input'!F11,'SABS Input'!F13,'SABS Input'!F24,'SABS Input'!F28,'SABS Input'!F34,'SABS Input'!F37,'SABS Input'!F42)=0,"",AVERAGE('SABS Input'!F8,'SABS Input'!F11,'SABS Input'!F13,'SABS Input'!F24,'SABS Input'!F28,'SABS Input'!F34,'SABS Input'!F37,'SABS Input'!F42)) -> 0
A7: Beliefs about Control | B7: 16, 17, 29, 33, 35 | C7: =IF(COUNTA('SABS Input'!F19,'SABS Input'!F20,'SABS Input'!F32,'SABS Input'!F36,'SABS Input'!F38)=0,"",AVERAGE('SABS Input'!F19,'SABS Input'!F20,'SABS Input'!F32,'SABS Input'!F36,'SABS Input'!F38)) -> 0
A8: Ethical Development | B8: 1, 20, 23 | C8: =IF(COUNTA('SABS Input'!F4,'SABS Input'!F23,'SABS Input'!F26)=0,"",AVERAGE('SABS Input'!F4,'SABS Input'!F23,'SABS Input'!F26)) -> 0
A9: Stoic Worldview | B9: 2, 12, 36 | C9: =IF(COUNTA('SABS Input'!F5,'SABS Input'!F15,'SABS Input'!F39)=0,"",AVERAGE('SABS Input'!F5,'SABS Input'!F15,'SABS Input'!F39)) -> 2.6666667
A11: Interpretation
A12: Scores more than 4.0 indicate agreement with Stoic principles; higher = stronger Stoic attitudes & behaviours.
A14: When referencing the SABS, please cite as
A15: LeBon, T., Brown, G., DiGiuseppe, R., Karl, J., Fischer, R., & Lopez, G. (2025). The development and validation of the Stoic Attitudes and Behaviours Scale. Cognitive Therapy and Research. https://doi.org/10.1007/s10608-025-10635-9
A16: For an explanation of what the dimensions mean, see https://www.psychologytoday.com/gb/blog/365-ways-to-be-more-stoic/202509/how-the-science-of-stoicism-can-boost-your-well-being
